Package: iSEEfier Version: 1.0.0 Command: rm -rf iSEEfier.buildbin-libdir && mkdir iSEEfier.buildbin-libdir && /Users/biocbuild/BBS/utils/build-universal.sh iSEEfier_1.0.0.tar.gz /Library/Frameworks/R.framework/Resources/bin/R iSEEfier.buildbin-libdir StartedAt: 2024-10-17 16:25:37 -0400 (Thu, 17 Oct 2024) EndedAt: 2024-10-17 16:26:40 -0400 (Thu, 17 Oct 2024) EllapsedTime: 62.4 seconds RetCode: 0 Status: OK PackageFile: iSEEfier_1.0.0.tgz PackageFileSize: 528.9 KiB