Package: iSEEfier Version: 1.0.0 Command: /Library/Frameworks/R.framework/Resources/bin/R CMD build --keep-empty-dirs --no-resave-data iSEEfier StartedAt: 2024-10-16 20:15:51 -0400 (Wed, 16 Oct 2024) EndedAt: 2024-10-16 20:18:35 -0400 (Wed, 16 Oct 2024) EllapsedTime: 164.3 seconds RetCode: 0 Status: OK PackageFile: iSEEfier_1.0.0.tar.gz PackageFileSize: 502.7 KiB