Package: iSEEfier Version: 1.0.0 Command: /Library/Frameworks/R.framework/Resources/bin/R CMD INSTALL iSEEfier StartedAt: 2024-10-16 16:12:11 -0400 (Wed, 16 Oct 2024) EndedAt: 2024-10-16 16:13:14 -0400 (Wed, 16 Oct 2024) EllapsedTime: 62.4 seconds RetCode: 0 Status: OK