Package: iSEEfier Version: 1.0.0 Command: /home/biocbuild/bbs-3.19-bioc/R/bin/R CMD build --keep-empty-dirs --no-resave-data iSEEfier StartedAt: 2024-10-16 19:07:06 -0400 (Wed, 16 Oct 2024) EndedAt: 2024-10-16 19:08:18 -0400 (Wed, 16 Oct 2024) EllapsedTime: 72.1 seconds RetCode: 0 Status: OK PackageFile: iSEEfier_1.0.0.tar.gz PackageFileSize: 452.3 KiB