Package: iSEEfier Version: 1.0.0 Command: chmod a+r iSEEfier -R && F:\biocbuild\bbs-3.19-bioc\R\bin\R.exe CMD build --keep-empty-dirs --no-resave-data iSEEfier StartedAt: 2024-06-26 19:38:43 -0400 (Wed, 26 Jun 2024) EndedAt: 2024-06-26 19:40:10 -0400 (Wed, 26 Jun 2024) EllapsedTime: 86.6 seconds RetCode: 0 Status: OK PackageFile: iSEEfier_1.0.0.tar.gz PackageFileSize: 377.9 KiB