Package: iSEEfier Version: 1.0.0 Command: rm -rf iSEEfier.buildbin-libdir && mkdir iSEEfier.buildbin-libdir && E:\biocbuild\bbs-3.19-bioc\R\bin\R.exe CMD INSTALL --build --library=iSEEfier.buildbin-libdir iSEEfier_1.0.0.tar.gz StartedAt: 2024-10-17 08:00:35 -0400 (Thu, 17 Oct 2024) EndedAt: 2024-10-17 08:01:07 -0400 (Thu, 17 Oct 2024) EllapsedTime: 31.5 seconds RetCode: 0 Status: OK PackageFile: iSEEfier_1.0.0.zip PackageFileSize: 406.6 KiB