Package: iSEEfier Version: 1.0.0 Command: chmod a+r iSEEfier -R && E:\biocbuild\bbs-3.19-bioc\R\bin\R.exe CMD build --keep-empty-dirs --no-resave-data iSEEfier StartedAt: 2024-10-16 19:53:25 -0400 (Wed, 16 Oct 2024) EndedAt: 2024-10-16 19:54:54 -0400 (Wed, 16 Oct 2024) EllapsedTime: 89.1 seconds RetCode: 0 Status: OK PackageFile: iSEEfier_1.0.0.tar.gz PackageFileSize: 376.7 KiB