Package: iSEEfier Version: 1.0.0 Command: E:\biocbuild\bbs-3.19-bioc\R\bin\R.exe CMD INSTALL iSEEfier StartedAt: 2024-10-16 16:54:17 -0400 (Wed, 16 Oct 2024) EndedAt: 2024-10-16 16:54:49 -0400 (Wed, 16 Oct 2024) EllapsedTime: 32.6 seconds RetCode: 0 Status: OK