Package: iSEEhub Version: 1.6.0 Command: /Library/Frameworks/R.framework/Resources/bin/R CMD build --keep-empty-dirs --no-resave-data iSEEhub StartedAt: 2024-10-17 03:01:44 -0400 (Thu, 17 Oct 2024) EndedAt: 2024-10-17 03:02:57 -0400 (Thu, 17 Oct 2024) EllapsedTime: 72.2 seconds RetCode: 0 Status: OK PackageFile: iSEEhub_1.6.0.tar.gz PackageFileSize: 6.619 MiB