Package: iSEEhub Version: 1.6.0 Command: /Library/Frameworks/R.framework/Resources/bin/R CMD INSTALL iSEEhub StartedAt: 2024-10-16 17:35:53 -0400 (Wed, 16 Oct 2024) EndedAt: 2024-10-16 17:36:34 -0400 (Wed, 16 Oct 2024) EllapsedTime: 40.8 seconds RetCode: 0 Status: OK