Package: iSEEhub Version: 1.6.0 Command: /Library/Frameworks/R.framework/Resources/bin/R CMD build --keep-empty-dirs --no-resave-data iSEEhub StartedAt: 2024-10-16 20:16:18 -0400 (Wed, 16 Oct 2024) EndedAt: 2024-10-16 20:18:37 -0400 (Wed, 16 Oct 2024) EllapsedTime: 139.3 seconds RetCode: 0 Status: OK PackageFile: iSEEhub_1.6.0.tar.gz PackageFileSize: 6.619 MiB