Package: iSEEhub Version: 1.6.0 Command: chmod a+r iSEEhub -R && E:\biocbuild\bbs-3.19-bioc\R\bin\R.exe CMD build --keep-empty-dirs --no-resave-data iSEEhub StartedAt: 2024-10-16 19:53:42 -0400 (Wed, 16 Oct 2024) EndedAt: 2024-10-16 19:54:51 -0400 (Wed, 16 Oct 2024) EllapsedTime: 68.8 seconds RetCode: 0 Status: OK PackageFile: iSEEhub_1.6.0.tar.gz PackageFileSize: 6.619 MiB