Package: iSEEindex Version: 1.2.0 Command: rm -rf iSEEindex.buildbin-libdir && mkdir iSEEindex.buildbin-libdir && /Users/biocbuild/BBS/utils/build-universal.sh iSEEindex_1.2.0.tar.gz /Library/Frameworks/R.framework/Resources/bin/R iSEEindex.buildbin-libdir StartedAt: 2024-10-18 19:04:46 -0400 (Fri, 18 Oct 2024) EndedAt: 2024-10-18 19:05:31 -0400 (Fri, 18 Oct 2024) EllapsedTime: 45.1 seconds RetCode: 0 Status: OK PackageFile: iSEEindex_1.2.0.tgz PackageFileSize: 1.519 MiB