Package: iSEEindex Version: 1.2.0 Command: rm -rf iSEEindex.buildbin-libdir && mkdir iSEEindex.buildbin-libdir && E:\biocbuild\bbs-3.19-bioc\R\bin\R.exe CMD INSTALL --build --library=iSEEindex.buildbin-libdir iSEEindex_1.2.0.tar.gz StartedAt: 2024-10-17 08:00:40 -0400 (Thu, 17 Oct 2024) EndedAt: 2024-10-17 08:01:24 -0400 (Thu, 17 Oct 2024) EllapsedTime: 44.1 seconds RetCode: 0 Status: OK PackageFile: iSEEindex_1.2.0.zip PackageFileSize: 1.533 MiB