Package: iSEEindex Version: 1.2.0 Command: chmod a+r iSEEindex -R && E:\biocbuild\bbs-3.19-bioc\R\bin\R.exe CMD build --keep-empty-dirs --no-resave-data iSEEindex StartedAt: 2024-10-16 19:53:43 -0400 (Wed, 16 Oct 2024) EndedAt: 2024-10-16 19:54:53 -0400 (Wed, 16 Oct 2024) EllapsedTime: 70.1 seconds RetCode: 0 Status: OK PackageFile: iSEEindex_1.2.0.tar.gz PackageFileSize: 1.367 MiB