Package: iSEEpathways Version: 1.2.0 Command: /Library/Frameworks/R.framework/Resources/bin/R CMD build --keep-empty-dirs --no-resave-data iSEEpathways StartedAt: 2024-10-17 03:01:59 -0400 (Thu, 17 Oct 2024) EndedAt: 2024-10-17 03:06:12 -0400 (Thu, 17 Oct 2024) EllapsedTime: 252.8 seconds RetCode: 0 Status: OK PackageFile: iSEEpathways_1.2.0.tar.gz PackageFileSize: 2.138 MiB