Package: iSEEpathways Version: 1.2.0 Command: /Library/Frameworks/R.framework/Resources/bin/R CMD INSTALL iSEEpathways StartedAt: 2024-10-16 17:35:20 -0400 (Wed, 16 Oct 2024) EndedAt: 2024-10-16 17:35:55 -0400 (Wed, 16 Oct 2024) EllapsedTime: 35.2 seconds RetCode: 0 Status: OK