Package: iSEEpathways Version: 1.2.0 Command: /Library/Frameworks/R.framework/Resources/bin/R CMD build --keep-empty-dirs --no-resave-data iSEEpathways StartedAt: 2024-06-09 17:03:15 -0400 (Sun, 09 Jun 2024) EndedAt: 2024-06-09 17:06:20 -0400 (Sun, 09 Jun 2024) EllapsedTime: 184.8 seconds RetCode: 0 Status: OK PackageFile: iSEEpathways_1.2.0.tar.gz PackageFileSize: 2.138 MiB