Package: iSEEpathways Version: 1.2.0 Command: rm -rf iSEEpathways.buildbin-libdir && mkdir iSEEpathways.buildbin-libdir && /Users/biocbuild/BBS/utils/build-universal.sh iSEEpathways_1.2.0.tar.gz /Library/Frameworks/R.framework/Resources/bin/R iSEEpathways.buildbin-libdir StartedAt: 2024-10-17 16:25:39 -0400 (Thu, 17 Oct 2024) EndedAt: 2024-10-17 16:27:49 -0400 (Thu, 17 Oct 2024) EllapsedTime: 129.3 seconds RetCode: 0 Status: OK PackageFile: iSEEpathways_1.2.0.tgz PackageFileSize: 1.781 MiB