Package: iSEEpathways Version: 1.2.0 Command: /home/biocbuild/bbs-3.19-bioc/R/bin/R CMD build --keep-empty-dirs --no-resave-data iSEEpathways StartedAt: 2024-10-16 19:07:35 -0400 (Wed, 16 Oct 2024) EndedAt: 2024-10-16 19:10:21 -0400 (Wed, 16 Oct 2024) EllapsedTime: 166.3 seconds RetCode: 0 Status: OK PackageFile: iSEEpathways_1.2.0.tar.gz PackageFileSize: 2.138 MiB