Package: iSEEpathways Version: 1.2.0 Command: rm -rf iSEEpathways.buildbin-libdir && mkdir iSEEpathways.buildbin-libdir && F:\biocbuild\bbs-3.19-bioc\R\bin\R.exe CMD INSTALL --build --library=iSEEpathways.buildbin-libdir iSEEpathways_1.2.0.tar.gz StartedAt: 2024-06-27 08:23:53 -0400 (Thu, 27 Jun 2024) EndedAt: 2024-06-27 08:24:48 -0400 (Thu, 27 Jun 2024) EllapsedTime: 55.2 seconds RetCode: 0 Status: OK PackageFile: iSEEpathways_1.2.0.zip PackageFileSize: 1.789 MiB