Package: iSEEpathways Version: 1.2.0 Command: rm -rf iSEEpathways.buildbin-libdir && mkdir iSEEpathways.buildbin-libdir && E:\biocbuild\bbs-3.19-bioc\R\bin\R.exe CMD INSTALL --build --library=iSEEpathways.buildbin-libdir iSEEpathways_1.2.0.tar.gz StartedAt: 2024-10-17 08:00:44 -0400 (Thu, 17 Oct 2024) EndedAt: 2024-10-17 08:01:30 -0400 (Thu, 17 Oct 2024) EllapsedTime: 45.9 seconds RetCode: 0 Status: OK PackageFile: iSEEpathways_1.2.0.zip PackageFileSize: 1.79 MiB