Package: iSEEpathways Version: 1.2.0 Command: E:\biocbuild\bbs-3.19-bioc\R\bin\R.exe CMD INSTALL iSEEpathways StartedAt: 2024-10-16 16:51:56 -0400 (Wed, 16 Oct 2024) EndedAt: 2024-10-16 16:52:44 -0400 (Wed, 16 Oct 2024) EllapsedTime: 47.6 seconds RetCode: 0 Status: OK