Package: iSEEu Version: 1.16.0 Command: rm -rf iSEEu.buildbin-libdir && mkdir iSEEu.buildbin-libdir && /Users/biocbuild/BBS/utils/build-universal.sh iSEEu_1.16.0.tar.gz /Library/Frameworks/R.framework/Resources/bin/R iSEEu.buildbin-libdir StartedAt: 2024-10-17 16:25:39 -0400 (Thu, 17 Oct 2024) EndedAt: 2024-10-17 16:27:55 -0400 (Thu, 17 Oct 2024) EllapsedTime: 135.9 seconds RetCode: 0 Status: OK PackageFile: iSEEu_1.16.0.tgz PackageFileSize: 1.426 MiB