Package: iSEEu Version: 1.16.0 Command: rm -rf iSEEu.buildbin-libdir && mkdir iSEEu.buildbin-libdir && E:\biocbuild\bbs-3.19-bioc\R\bin\R.exe CMD INSTALL --build --library=iSEEu.buildbin-libdir iSEEu_1.16.0.tar.gz StartedAt: 2024-10-17 08:00:52 -0400 (Thu, 17 Oct 2024) EndedAt: 2024-10-17 08:01:51 -0400 (Thu, 17 Oct 2024) EllapsedTime: 58.6 seconds RetCode: 0 Status: OK PackageFile: iSEEu_1.16.0.zip PackageFileSize: 1.431 MiB