Package: iSEEu Version: 1.16.0 Command: chmod a+r iSEEu -R && E:\biocbuild\bbs-3.19-bioc\R\bin\R.exe CMD build --keep-empty-dirs --no-resave-data iSEEu StartedAt: 2024-10-16 19:54:46 -0400 (Wed, 16 Oct 2024) EndedAt: 2024-10-16 19:56:48 -0400 (Wed, 16 Oct 2024) EllapsedTime: 121.4 seconds RetCode: 0 Status: OK PackageFile: iSEEu_1.16.0.tar.gz PackageFileSize: 1.62 MiB