Package: iasva Version: 1.22.0 Command: /Library/Frameworks/R.framework/Resources/bin/R CMD build --keep-empty-dirs --no-resave-data iasva StartedAt: 2024-06-09 23:02:44 -0400 (Sun, 09 Jun 2024) EndedAt: 2024-06-09 23:04:08 -0400 (Sun, 09 Jun 2024) EllapsedTime: 83.4 seconds RetCode: 0 Status: OK PackageFile: iasva_1.22.0.tar.gz PackageFileSize: 1.228 MiB