Package: iasva Version: 1.22.0 Command: /Library/Frameworks/R.framework/Resources/bin/R CMD check --install=check:iasva.install-out.txt --library=/Library/Frameworks/R.framework/Resources/library --no-vignettes --timings iasva_1.22.0.tar.gz StartedAt: 2024-06-10 18:52:45 -0400 (Mon, 10 Jun 2024) EndedAt: 2024-06-10 18:58:41 -0400 (Mon, 10 Jun 2024) EllapsedTime: 356.1 seconds RetCode: 0 Status: OK CheckDir: iasva.Rcheck Warnings: 0