Package: iasva Version: 1.22.0 Command: /home/biocbuild/R/R-beta-2024-04-15_r86425/bin/R CMD build --keep-empty-dirs --no-resave-data iasva StartedAt: 2024-05-09 01:01:14 -0000 (Thu, 09 May 2024) EndedAt: 2024-05-09 01:02:29 -0000 (Thu, 09 May 2024) EllapsedTime: 75.1 seconds RetCode: 0 Status: OK PackageFile: iasva_1.22.0.tar.gz PackageFileSize: 926 KiB