Package: iasva Version: 1.22.0 Command: /home/biocbuild/R/R-beta-2024-04-15_r86425/bin/R CMD INSTALL iasva StartedAt: 2024-05-08 20:17:57 -0000 (Wed, 08 May 2024) EndedAt: 2024-05-08 20:18:24 -0000 (Wed, 08 May 2024) EllapsedTime: 26.6 seconds RetCode: 0 Status: OK