Package: iasva Version: 1.22.0 Command: /Library/Frameworks/R.framework/Resources/bin/R CMD build --keep-empty-dirs --no-resave-data iasva StartedAt: 2024-10-16 20:05:45 -0400 (Wed, 16 Oct 2024) EndedAt: 2024-10-16 20:07:49 -0400 (Wed, 16 Oct 2024) EllapsedTime: 124.7 seconds RetCode: 0 Status: OK PackageFile: iasva_1.22.0.tar.gz PackageFileSize: 1.229 MiB