Package: iasva Version: 1.22.0 Command: chmod a+r iasva -R && F:\biocbuild\bbs-3.19-bioc\R\bin\R.exe CMD build --keep-empty-dirs --no-resave-data iasva StartedAt: 2024-06-26 19:31:04 -0400 (Wed, 26 Jun 2024) EndedAt: 2024-06-26 19:31:58 -0400 (Wed, 26 Jun 2024) EllapsedTime: 54.3 seconds RetCode: 0 Status: OK PackageFile: iasva_1.22.0.tar.gz PackageFileSize: 856.8 KiB