Package: iasva Version: 1.22.0 Command: F:\biocbuild\bbs-3.19-bioc\R\bin\R.exe CMD check --no-multiarch --install=check:iasva.install-out.txt --library=F:\biocbuild\bbs-3.19-bioc\R\library --no-vignettes --timings iasva_1.22.0.tar.gz StartedAt: 2024-06-27 02:41:12 -0400 (Thu, 27 Jun 2024) EndedAt: 2024-06-27 02:44:42 -0400 (Thu, 27 Jun 2024) EllapsedTime: 210.3 seconds RetCode: 0 Status: OK CheckDir: iasva.Rcheck Warnings: 0