Package: iasva Version: 1.22.0 Command: rm -rf iasva.buildbin-libdir && mkdir iasva.buildbin-libdir && E:\biocbuild\bbs-3.19-bioc\R\bin\R.exe CMD INSTALL --build --library=iasva.buildbin-libdir iasva_1.22.0.tar.gz StartedAt: 2024-10-17 07:58:26 -0400 (Thu, 17 Oct 2024) EndedAt: 2024-10-17 07:59:02 -0400 (Thu, 17 Oct 2024) EllapsedTime: 36.4 seconds RetCode: 0 Status: OK PackageFile: iasva_1.22.0.zip PackageFileSize: 883.3 KiB