Package: iasva Version: 1.22.0 Command: chmod a+r iasva -R && E:\biocbuild\bbs-3.19-bioc\R\bin\R.exe CMD build --keep-empty-dirs --no-resave-data iasva StartedAt: 2024-10-16 19:45:14 -0400 (Wed, 16 Oct 2024) EndedAt: 2024-10-16 19:46:07 -0400 (Wed, 16 Oct 2024) EllapsedTime: 52.8 seconds RetCode: 0 Status: OK PackageFile: iasva_1.22.0.tar.gz PackageFileSize: 856.8 KiB