Package: iasva Version: 1.22.0 Command: E:\biocbuild\bbs-3.19-bioc\R\bin\R.exe CMD INSTALL iasva StartedAt: 2024-10-16 16:19:24 -0400 (Wed, 16 Oct 2024) EndedAt: 2024-10-16 16:19:45 -0400 (Wed, 16 Oct 2024) EllapsedTime: 21.6 seconds RetCode: 0 Status: OK