Package: ibh Version: 1.52.0 Command: /Library/Frameworks/R.framework/Resources/bin/R CMD build --keep-empty-dirs --no-resave-data ibh StartedAt: 2024-06-09 23:03:03 -0400 (Sun, 09 Jun 2024) EndedAt: 2024-06-09 23:03:20 -0400 (Sun, 09 Jun 2024) EllapsedTime: 17.5 seconds RetCode: 0 Status: OK PackageFile: ibh_1.52.0.tar.gz PackageFileSize: 127.3 KiB