Package: ibh Version: 1.52.0 Command: rm -rf ibh.buildbin-libdir && mkdir ibh.buildbin-libdir && F:\biocbuild\bbs-3.19-bioc\R\bin\R.exe CMD INSTALL --build --library=ibh.buildbin-libdir ibh_1.52.0.tar.gz StartedAt: 2024-06-27 08:21:59 -0400 (Thu, 27 Jun 2024) EndedAt: 2024-06-27 08:22:22 -0400 (Thu, 27 Jun 2024) EllapsedTime: 23.3 seconds RetCode: 0 Status: OK PackageFile: ibh_1.52.0.zip PackageFileSize: 160.1 KiB