Package: ibh Version: 1.52.0 Command: rm -rf ibh.buildbin-libdir && mkdir ibh.buildbin-libdir && E:\biocbuild\bbs-3.19-bioc\R\bin\R.exe CMD INSTALL --build --library=ibh.buildbin-libdir ibh_1.52.0.tar.gz StartedAt: 2024-10-17 07:58:30 -0400 (Thu, 17 Oct 2024) EndedAt: 2024-10-17 07:58:42 -0400 (Thu, 17 Oct 2024) EllapsedTime: 12.2 seconds RetCode: 0 Status: OK PackageFile: ibh_1.52.0.zip PackageFileSize: 160.2 KiB