Package: ibh Version: 1.52.0 Command: chmod a+r ibh -R && E:\biocbuild\bbs-3.19-bioc\R\bin\R.exe CMD build --keep-empty-dirs --no-resave-data ibh StartedAt: 2024-10-16 19:45:19 -0400 (Wed, 16 Oct 2024) EndedAt: 2024-10-16 19:45:30 -0400 (Wed, 16 Oct 2024) EllapsedTime: 12.0 seconds RetCode: 0 Status: OK PackageFile: ibh_1.52.0.tar.gz PackageFileSize: 128.2 KiB