Package: idiogram Version: 1.80.0 Command: /Library/Frameworks/R.framework/Resources/bin/R CMD build --keep-empty-dirs --no-resave-data idiogram StartedAt: 2024-10-17 02:36:28 -0400 (Thu, 17 Oct 2024) EndedAt: 2024-10-17 02:37:02 -0400 (Thu, 17 Oct 2024) EllapsedTime: 34.1 seconds RetCode: 0 Status: OK PackageFile: idiogram_1.80.0.tar.gz PackageFileSize: 1.795 MiB