Package: idiogram Version: 1.80.0 Command: /Library/Frameworks/R.framework/Resources/bin/R CMD check --install=check:idiogram.install-out.txt --library=/Library/Frameworks/R.framework/Resources/library --no-vignettes --timings idiogram_1.80.0.tar.gz StartedAt: 2024-10-18 00:55:56 -0400 (Fri, 18 Oct 2024) EndedAt: 2024-10-18 00:58:02 -0400 (Fri, 18 Oct 2024) EllapsedTime: 126.0 seconds RetCode: 0 Status: OK CheckDir: idiogram.Rcheck Warnings: 0