Package: idiogram Version: 1.80.0 Command: /Library/Frameworks/R.framework/Resources/bin/R CMD INSTALL idiogram StartedAt: 2024-10-16 16:16:04 -0400 (Wed, 16 Oct 2024) EndedAt: 2024-10-16 16:16:25 -0400 (Wed, 16 Oct 2024) EllapsedTime: 20.2 seconds RetCode: 0 Status: OK