Package: idiogram Version: 1.80.0 Command: /home/biocbuild/R/R-beta-2024-04-15_r86425/bin/R CMD build --keep-empty-dirs --no-resave-data idiogram StartedAt: 2024-05-09 01:02:29 -0000 (Thu, 09 May 2024) EndedAt: 2024-05-09 01:02:59 -0000 (Thu, 09 May 2024) EllapsedTime: 30.0 seconds RetCode: 0 Status: OK PackageFile: idiogram_1.80.0.tar.gz PackageFileSize: 1.791 MiB