Package: idiogram Version: 1.80.0 Command: /home/biocbuild/R/R-beta-2024-04-15_r86425/bin/R CMD INSTALL idiogram StartedAt: 2024-05-08 20:23:18 -0000 (Wed, 08 May 2024) EndedAt: 2024-05-08 20:23:41 -0000 (Wed, 08 May 2024) EllapsedTime: 22.8 seconds RetCode: 0 Status: OK