Package: idiogram Version: 1.80.0 Command: /home/biocbuild/bbs-3.19-bioc/R/bin/R CMD INSTALL idiogram StartedAt: 2024-10-16 16:05:02 -0400 (Wed, 16 Oct 2024) EndedAt: 2024-10-16 16:05:18 -0400 (Wed, 16 Oct 2024) EllapsedTime: 16.1 seconds RetCode: 0 Status: OK