Package: idpr Version: 1.14.0 Command: /Library/Frameworks/R.framework/Resources/bin/R CMD check --install=check:idpr.install-out.txt --library=/Library/Frameworks/R.framework/Resources/library --no-vignettes --timings idpr_1.14.0.tar.gz StartedAt: 2024-06-10 18:58:41 -0400 (Mon, 10 Jun 2024) EndedAt: 2024-06-10 19:00:22 -0400 (Mon, 10 Jun 2024) EllapsedTime: 100.6 seconds RetCode: 0 Status: OK CheckDir: idpr.Rcheck Warnings: 0