Package: idpr Version: 1.14.0 Command: /home/biocbuild/R/R-beta-2024-04-15_r86425/bin/R CMD check --install=check:idpr.install-out.txt --library=/home/biocbuild/R/R-beta-2024-04-15_r86425/site-library --no-vignettes --timings idpr_1.14.0.tar.gz StartedAt: 2024-05-09 08:29:38 -0000 (Thu, 09 May 2024) EndedAt: 2024-05-09 08:30:32 -0000 (Thu, 09 May 2024) EllapsedTime: 54.1 seconds RetCode: 0 Status: OK CheckDir: idpr.Rcheck Warnings: 0