Package: idpr Version: 1.14.0 Command: /Library/Frameworks/R.framework/Resources/bin/R CMD check --install=check:idpr.install-out.txt --library=/Library/Frameworks/R.framework/Resources/library --no-vignettes --timings idpr_1.14.0.tar.gz StartedAt: 2024-06-09 20:59:22 -0400 (Sun, 09 Jun 2024) EndedAt: 2024-06-09 21:00:22 -0400 (Sun, 09 Jun 2024) EllapsedTime: 59.3 seconds RetCode: 0 Status: OK CheckDir: idpr.Rcheck Warnings: 0