Package: idpr Version: 1.14.0 Command: rm -rf idpr.buildbin-libdir && mkdir idpr.buildbin-libdir && /Users/biocbuild/BBS/utils/build-universal.sh idpr_1.14.0.tar.gz /Library/Frameworks/R.framework/Resources/bin/R idpr.buildbin-libdir StartedAt: 2024-10-17 16:22:58 -0400 (Thu, 17 Oct 2024) EndedAt: 2024-10-17 16:23:12 -0400 (Thu, 17 Oct 2024) EllapsedTime: 13.7 seconds RetCode: 0 Status: OK PackageFile: idpr_1.14.0.tgz PackageFileSize: 3.697 MiB